BEGIN:VCALENDAR
BEGIN:VEVENT
SUMMARY:Potluck: AG\, [Kyle Davis]\, dj 5spice\, dj fat frog\, satandoll [
 nycnoise]
DTSTART:20260310T020000Z
DTEND:20260310T030000Z
UID:de04748b-3ea6-4e02-a4e8-f8e33a25e225
CREATED:20260425T131246Z
DESCRIPTION:
LOCATION:bossa nova civic club (1271 myrtle ave\, brooklyn)
END:VEVENT
END:VCALENDAR
