BEGIN:VCALENDAR
BEGIN:VEVENT
SUMMARY:Breaking Capacity: Ripley\, Drummy b2b Martini\, AFTRMTH\, PlayPla
 y [nycnoise]
DTSTART:20260311T020000Z
DTEND:20260311T030000Z
UID:e62814ea-31e0-4174-adfb-3edbc9ea8cb3
CREATED:20260425T130958Z
DESCRIPTION:
LOCATION:bossa nova civic club (1271 myrtle ave\, brooklyn)
END:VEVENT
END:VCALENDAR
