BEGIN:VCALENDAR
BEGIN:VEVENT
SUMMARY:A Solar Raveturn | Celebrating Cirsty Burton: Yung Mayne\, Low Sup
 ply\, Dj Necroface\, CH3RI\, jo_sway [nycnoise]
DTSTART:20260312T020000Z
DTEND:20260312T030000Z
UID:36de2234-b77a-4c16-a9dd-98a753c5b0c3
CREATED:20260425T130919Z
DESCRIPTION:"Raising funds for Collective Focus Research Hub"
LOCATION:bossa nova civic club (1271 myrtle ave\, brooklyn)
END:VEVENT
END:VCALENDAR
