BEGIN:VCALENDAR
BEGIN:VEVENT
SUMMARY:Ryosuke Kiyasu\, Danny Tantrum\, Ann Artist\, Pregnancy\, Cazadory
 \, Dentadura\, DJ Wagner [nycnoise]
DTSTART:20260304T040000Z
DTEND:20260304T050000Z
UID:038e276c-ce83-4f45-bff3-11be00c664e4
CREATED:20260425T130835Z
DESCRIPTION:
LOCATION:living gallery (1094 broadway\, brooklyn)
END:VEVENT
END:VCALENDAR
