BEGIN:VCALENDAR
BEGIN:VEVENT
SUMMARY:NOW WE ARE HERE: Dalius Naujo & Jonathon Haffner  w/ Jonas Mekas
  (in absentia) [nycnoise]
DTSTART:20260305T003000Z
DTEND:20260305T013000Z
UID:87fc3038-9c54-4352-80c6-a8fc3a3fba8d
CREATED:20260425T131247Z
DESCRIPTION:
LOCATION:microscope gallery (525 w. 29th st.\, 2nd fl.\, manhattan)
END:VEVENT
END:VCALENDAR
