BEGIN:VCALENDAR
BEGIN:VEVENT
SUMMARY:Henry Plotnick / Jasper Grigsby-Schulte / Carson Grimes\, Lorin Be
 nedict & Sophie Kickhofel\, Hannah Mayer / Joey Curreri / Knox Barber [nyc
 noise]
DTSTART:20260322T230000Z
DTEND:20260323T000000Z
UID:37fd0fec-9329-4d42-8afc-0ec46e0ae150
CREATED:20260425T130959Z
DESCRIPTION:
LOCATION:brothers wash & dry laundromat (5420 nurge ave\, queens)
END:VEVENT
END:VCALENDAR
