BEGIN:VCALENDAR
BEGIN:VEVENT
SUMMARY:Dada Strain presents: Christopher Hoffman\, Christina Wheeler & Ch
 ris Williams\, Prince of Queens\, Piotr Dada Strain (DJ) [nycnoise]
DTSTART:20260314T230000Z
DTEND:20260315T000000Z
UID:e1576f1b-2c80-4e03-8042-676bf13c6e37
CREATED:20260425T130528Z
DESCRIPTION:🌀 notaflof work trade\; curated by dada strain
LOCATION:light & sound design
END:VEVENT
END:VCALENDAR
