BEGIN:VCALENDAR
BEGIN:VEVENT
SUMMARY:microcultural confessions: Readings +: delia\, Can’t Catch Wind 
 With a Net (Dominika Mazurová\, Camilla Padgitt-Coles\, Emily Saltz\, And
 rew Steinmetz) [nycnoise]
DTSTART:20260331T230000Z
DTEND:20260401T000000Z
UID:f376e398-c5ac-4749-a76a-d727865d157d
CREATED:20260425T130615Z
DESCRIPTION:🌀 notaflof work trade\; poetry by Dan Kraines\, Emily Jacob
 i\, Julie Chen\, Yuma Carpenter-New\; "improvisational s&eacute\;ance ... 
 guided sound score"
LOCATION:light & sound design
END:VEVENT
END:VCALENDAR
