BEGIN:VCALENDAR
BEGIN:VEVENT
SUMMARY:Doolittle\, Kouskous Heaven\, Nowhere [nycnoise]
DTSTART:20260308T000000Z
DTEND:20260308T010000Z
UID:95d7398a-41f4-4c7f-8d98-a4065cc03468
CREATED:20260425T130837Z
DESCRIPTION:
LOCATION:gold sounds (44 wilson ave\, brooklyn)
END:VEVENT
END:VCALENDAR
