BEGIN:VCALENDAR
BEGIN:VEVENT
SUMMARY:Michael Foster / Brandon Lopez / Surprise Guest\, TBA [nycnoise]
DTSTART:20260318T000000Z
DTEND:20260318T010000Z
UID:10a8189c-26ae-4471-bd1c-20438b73bcaf
CREATED:20260425T130617Z
DESCRIPTION:full lineup asap
LOCATION:lava club
END:VEVENT
END:VCALENDAR
