BEGIN:VCALENDAR
BEGIN:VEVENT
SUMMARY:A Former Friend\, Weeeeeeeeeez [nycnoise]
DTSTART:20260329T000000Z
DTEND:20260329T010000Z
UID:7bc78d2b-14e5-43af-bdb1-b794a0a819f2
CREATED:20260425T130529Z
DESCRIPTION:
LOCATION:lava club
END:VEVENT
END:VCALENDAR
