BEGIN:VCALENDAR
BEGIN:VEVENT
SUMMARY:ICE Out of New York Benefit: sana sana\, NOWHERE\, Bathym [nycnois
 e]
DTSTART:20260315T020000Z
DTEND:20260315T030000Z
UID:16ffb849-40fe-483f-a4f9-2dc044a2698b
CREATED:20260425T130736Z
DESCRIPTION:9:30pm doors\; for ICE Out of New York\; limited tix at door
LOCATION:queensboro (80-02 Northern Blvd\, Jackson Heights\, NY 11372)
END:VEVENT
END:VCALENDAR
