BEGIN:VCALENDAR
BEGIN:VEVENT
SUMMARY:Triskaidekaphobia: Slash The Fash: Plastinated Human Nervous Syste
 m\, Capo\, Casca\, Decarthus [nycnoise]
DTSTART:20260313T220000Z
DTEND:20260313T230000Z
UID:0dc594d7-4ba5-44fa-92de-ae754191c5a1
CREATED:20260425T130734Z
DESCRIPTION:"Benefit market &amp\; concert to fundraise for families in Ga
 za presented by Olive Grove Initiative"
LOCATION:starr bar (214 starr st.\, brooklyn)
END:VEVENT
END:VCALENDAR
