BEGIN:VCALENDAR
BEGIN:VEVENT
SUMMARY:Pataphysics 018: David Lobser\, Professor Werden\, Ezekiel Honig\,
  Joshue Ott\, Todd Polenberg [nycnoise]
DTSTART:20260315T000000Z
DTEND:20260315T010000Z
UID:b69308ff-eeeb-44f9-ae28-3dfd0e153ea9
CREATED:20260425T130728Z
DESCRIPTION:
LOCATION:delight factory (303 Saratoga Ave\, Brooklyn\, NY 11233)
END:VEVENT
END:VCALENDAR
