BEGIN:VCALENDAR
BEGIN:VEVENT
SUMMARY:Invisible Cities\, X Harlow\, Sunk Heaven\, Concealer [nycnoise]
DTSTART:20260312T230000Z
DTEND:20260313T000000Z
UID:c1d3784c-fe11-4271-be54-064d2e3028d3
CREATED:20260425T130729Z
DESCRIPTION:
LOCATION:living gallery (1094 broadway\, brooklyn)
END:VEVENT
END:VCALENDAR
