BEGIN:VCALENDAR
BEGIN:VEVENT
SUMMARY:laialeah: 'Baby Butcher Choke For Free\,' Day #1/4 [nycnoise]
DTSTART:20260319T000000Z
DTEND:20260319T010000Z
UID:168273ce-0414-492c-924f-8d4ecdb0e593
CREATED:20260425T130836Z
DESCRIPTION:"noise theater duo laialeah (Leah Plante-Wiener &amp\; Eul&agr
 ave\;lia Comas) ... present a new apparatus of spectacle &amp\; sound ... 
 Cw: loud noise"
LOCATION:brick theater (579 metropolitan ave\, brooklyn)
END:VEVENT
END:VCALENDAR
