BEGIN:VCALENDAR
BEGIN:VEVENT
SUMMARY:Mirah\, Marshall LaCount\, Justin Gunter [nycnoise]
DTSTART:20260409T230000Z
DTEND:20260410T000000Z
UID:305d3bcd-955c-41f8-b224-1392364d95be
CREATED:20260425T110831Z
DESCRIPTION:
LOCATION:broadway (1272 broadway\, brooklyn)
END:VEVENT
END:VCALENDAR
