BEGIN:VCALENDAR
BEGIN:VEVENT
SUMMARY:Listening Session: The Nonlinear Blues with Braxton & *Bongowattz 
 [nycnoise]
DTSTART:20260312T190000Z
DTEND:20260312T200000Z
UID:66712f9a-8308-4bde-b7df-3c3eb65720bd
CREATED:20260425T130616Z
DESCRIPTION:
LOCATION:silence please (132 Bowery Floor 2\, New York\, NY 10013)
END:VEVENT
END:VCALENDAR
