BEGIN:VCALENDAR
BEGIN:VEVENT
SUMMARY:Dave Ruder (w/ Wendy Eisenberg\, Alfredo Colón\, Jeff Tobias)\, I
 an Andrew Askew\, Out of Sight of Land [nycnoise]
DTSTART:20260507T230000Z
DTEND:20260508T000000Z
UID:7497d25c-414a-46a9-92ee-c7fc81b9efbd
CREATED:20260425T091536Z
DESCRIPTION:
LOCATION:mama tried (787 3rd ave\, brooklyn)
END:VEVENT
END:VCALENDAR
