BEGIN:VCALENDAR
BEGIN:VEVENT
SUMMARY:Outlier presents: The Long Form (Nate Wooley\, Laura Cocks\, Hans 
 Young Binter\, Brandon Lopez\, Carlo Costa)\, Disponibles Serenatas (Mat M
 aneri\, Brandon Lopez\, Sun Mi Hong) [nycnoise]
DTSTART:20260315T230000Z
DTEND:20260316T000000Z
UID:0f6ac9bb-3799-429a-b7ed-41e81c4e14e4
CREATED:20260425T130528Z
DESCRIPTION:
LOCATION:p.i.t. (property is theft) (411 s. 5th st.\, brooklyn)
END:VEVENT
END:VCALENDAR
