BEGIN:VCALENDAR
BEGIN:VEVENT
SUMMARY:Unwrapped - Artists for Streaming Divestment: Weegee\, Mary Shelle
 y\, Best Dressed Ghost\, Fear Not Ourselves Alone\, Liz Pelly [nycnoise]
DTSTART:20260316T230000Z
DTEND:20260317T000000Z
UID:d33913bd-4d13-434c-b18d-fb99d3d10947
CREATED:20260425T130704Z
DESCRIPTION:🇵🇸 "No money for ICE. No money for genocide."
LOCATION:hart bar (538 hart st.\, brooklyn)
END:VEVENT
END:VCALENDAR
