BEGIN:VCALENDAR
BEGIN:VEVENT
SUMMARY:Nice Try\, Kid #28: Alex Goldberg & Raw Beef [nycnoise]
DTSTART:20260331T000000Z
DTEND:20260331T010000Z
UID:0621a3a4-ade0-40bc-bd84-eff46b2fb1df
CREATED:20260425T130735Z
DESCRIPTION:"experimental &amp\; improvisational music hosted by Rob Heath
  &amp\; Nice Try Kid Records"
LOCATION:troost (1011 manhattan ave\, brooklyn)
END:VEVENT
END:VCALENDAR
