BEGIN:VCALENDAR
BEGIN:VEVENT
SUMMARY:Samantha Kochis Quintet [nycnoise]
DTSTART:20260317T003000Z
DTEND:20260317T013000Z
UID:af63cb6a-9dc6-485e-b8e5-3fb92db75817
CREATED:20260425T130728Z
DESCRIPTION:SK w/ Judette Elliston\, Matei Predescu\, Finn Carroll\, Josh 
 Mathews
LOCATION:filthy diamond (679 Knickerbocker Ave\, Brooklyn\, NY 11221)
END:VEVENT
END:VCALENDAR
