BEGIN:VCALENDAR
BEGIN:VEVENT
SUMMARY:alana amore colvin / Way Campbell / Buz Donald [nycnoise]
DTSTART:20260329T000000Z
DTEND:20260329T010000Z
UID:9e3dbb68-03bc-49dd-b272-a92ce6352bff
CREATED:20260425T130733Z
DESCRIPTION:SK w/ Judette Elliston\, Matei Predescu\, Finn Carroll\, Josh 
 Mathews
LOCATION:filthy diamond (679 Knickerbocker Ave\, Brooklyn\, NY 11221)
END:VEVENT
END:VCALENDAR
