BEGIN:VCALENDAR
BEGIN:VEVENT
SUMMARY:Eternal Research presents Rite of the Demon: Spring: Fierra Ex Mac
 hina\, Ivana Dama\, Sage Morei [nycnoise]
DTSTART:20260322T223000Z
DTEND:20260322T233000Z
UID:ce83d46a-ee50-4d63-8770-6968be166e68
CREATED:20260425T130734Z
DESCRIPTION:7:30pm live performances but films might start earlier idk\, f
 t. folks who made&nbsp\;demon box
LOCATION:national sawdust (80 n. 6th st.\, brooklyn)
END:VEVENT
END:VCALENDAR
