BEGIN:VCALENDAR
BEGIN:VEVENT
SUMMARY:The Beak Trio\, alana amore colvin group\, This New Basement\, er
 ǐomarǐe [nycnoise]
DTSTART:20260331T000000Z
DTEND:20260331T010000Z
UID:72e5bb48-e8d6-4ecc-9f64-79da12a26bd1
CREATED:20260425T131035Z
DESCRIPTION:7:30pm doors\; flyer
LOCATION:hart bar (538 hart st.\, brooklyn)
END:VEVENT
END:VCALENDAR
