BEGIN:VCALENDAR
BEGIN:VEVENT
SUMMARY:Chaser\, Rope Trick\, Receive\, Cometa Negra [nycnoise]
DTSTART:20260413T000000Z
DTEND:20260413T010000Z
UID:b47ce5af-5729-4344-8578-8dde68e724b4
CREATED:20260425T110945Z
DESCRIPTION:7:30pm doors
LOCATION:hart bar (538 hart st.\, brooklyn)
END:VEVENT
END:VCALENDAR
