BEGIN:VCALENDAR
BEGIN:VEVENT
SUMMARY:Francesca H. & Selandis Sebastian Alexander Johnson\, Nathan Nakad
 egawa-Lee & Marc Edwards\, Jose Solares & alana amore colvin [nycnoise]
DTSTART:20260330T230000Z
DTEND:20260331T000000Z
UID:5ff22988-d1c3-4a75-a5c3-7b5aa55d4bad
CREATED:20260425T130615Z
DESCRIPTION:
LOCATION:brothers wash & dry laundromat (5420 nurge ave\, queens)
END:VEVENT
END:VCALENDAR
