BEGIN:VCALENDAR
BEGIN:VEVENT
SUMMARY:Sasco\, Yaz Lancaster\, doNormaal\, shemar [nycnoise]
DTSTART:20260330T000000Z
DTEND:20260330T010000Z
UID:e3f9664d-7518-48bf-89b3-df979d00f14d
CREATED:20260425T130548Z
DESCRIPTION:7pm doors
LOCATION:gutter (200 n. 14th st.\, brooklyn)
END:VEVENT
END:VCALENDAR
