BEGIN:VCALENDAR
BEGIN:VEVENT
SUMMARY:Sleeping Giant Glossolalia presents: Reaper's Gong\, Foreign Body\
 , Eyes Have It\, Dead Door Unit [nycnoise]
DTSTART:20260321T230000Z
DTEND:20260322T000000Z
UID:34f57723-a744-49c9-8405-e89caf109076
CREATED:20260425T130735Z
DESCRIPTION:
LOCATION:gutter (200 n. 14th st.\, brooklyn)
END:VEVENT
END:VCALENDAR
