BEGIN:VCALENDAR
BEGIN:VEVENT
SUMMARY:Will Hasell\, Salt\, K Porcelain\, Stefani Bondari [nycnoise]
DTSTART:20260331T233000Z
DTEND:20260401T003000Z
UID:53b3cf0d-9dbb-4147-89b7-219d77610640
CREATED:20260425T130727Z
DESCRIPTION:
LOCATION:cassette (68-38 forest ave bsmt\, ridgewood)
END:VEVENT
END:VCALENDAR
