BEGIN:VCALENDAR
BEGIN:VEVENT
SUMMARY:Carlos Truly\, Dhemo\, Key Hutch [nycnoise]
DTSTART:20260424T000000Z
DTEND:20260424T010000Z
UID:171f00d0-5240-4fc8-a449-24afb0f7e1c0
CREATED:20260425T110919Z
DESCRIPTION:7:30pm doors
LOCATION:cassette (68-38 forest ave bsmt\, ridgewood)
END:VEVENT
END:VCALENDAR
