BEGIN:VCALENDAR
BEGIN:VEVENT
SUMMARY:Taraka\, Joanna Mattrey [nycnoise]
DTSTART:20260403T000000Z
DTEND:20260403T010000Z
UID:17c98eb4-3619-4b9b-8cc6-83c97f6a6d42
CREATED:20260425T110740Z
DESCRIPTION:
LOCATION:issue project room (22 boerum place\, brooklyn)
END:VEVENT
END:VCALENDAR
