BEGIN:VCALENDAR
BEGIN:VEVENT
SUMMARY:Lea Bertucci & Norbert Rodenkirchen\, Chris McIntyre [nycnoise]
DTSTART:20260416T000000Z
DTEND:20260416T010000Z
UID:e85c6c7f-a2c9-483c-9f19-f185fb0dbfb1
CREATED:20260425T110741Z
DESCRIPTION:
LOCATION:issue project room (22 boerum place\, brooklyn)
END:VEVENT
END:VCALENDAR
