BEGIN:VCALENDAR
BEGIN:VEVENT
SUMMARY:The Music Of Now Fest [nycnoise]
DTSTART:20260328T023000Z
DTEND:20260328T033000Z
UID:c93a04f6-4c8f-4089-89d2-d8e959d99bef
CREATED:20260425T130549Z
DESCRIPTION:10:30pm tix: Stuart Bogie With Chris Morrisey\, Dave &ldquo\;S
 moota&rdquo\; Smith\, Elizabeth Pupo Walker\, Miles Francis\, Domenica A F
 ossati\; 11:45pm tix: Ilhan Ersahin\, Yusuke Yamamoto\, Gintas Janusonis
LOCATION:nublu 151 (151 ave c\, manhattan)
END:VEVENT
END:VCALENDAR
