BEGIN:VCALENDAR
BEGIN:VEVENT
SUMMARY:Goal Weight (Album Release\; Jennifer Gersten & Maggie Cox)\, ft. 
 Webb Crawford [nycnoise]
DTSTART:20260401T233000Z
DTEND:20260402T003000Z
UID:a075680f-70c5-4a32-b8a8-4fd8fa829220
CREATED:20260425T110815Z
DESCRIPTION:
LOCATION:tawny (173 Henry St\, New York\, NY 10002)
END:VEVENT
END:VCALENDAR
