BEGIN:VCALENDAR
BEGIN:VEVENT
SUMMARY:$91 [nycnoise]
DTSTART:20260402T000000Z
DTEND:20260402T010000Z
UID:ebf0968e-1306-4fd5-8195-472f08229df0
CREATED:20260425T110659Z
DESCRIPTION:The Music of Now Fest: 8pm tix: JMMR (Jordan McLean\, Dave "Sm
 ooth" Smith\, Tony Jarvis\, John Walter Bollinger)\; 9:30pm tix: Shahzad I
 smaily\; 11:30pm tix: Tivon Penicott w/ Kenn Salters &amp\; Dean Torrey\; 
 12:30pm tix: Matta Muller's Laser Sight ft. Mark Shim\, Santiago Bosch\, J
 oav Ganor\; $23 per set
LOCATION:nublu 151 (151 ave c\, manhattan)
END:VEVENT
END:VCALENDAR
