BEGIN:VCALENDAR
BEGIN:VEVENT
SUMMARY:Life is Watching: Reverend Billy & the Church of Stop Shopping: Ho
 noring The Rude Mechanical Orchestra [nycnoise]
DTSTART:20260329T230000Z
DTEND:20260330T000000Z
UID:213c180e-2e38-4c87-a678-bc28d899ff21
CREATED:20260425T130550Z
DESCRIPTION:
LOCATION:15th st. quaker meeting house (15 Rutherford Pl\, New York\, NY 1
 0003)
END:VEVENT
END:VCALENDAR
