BEGIN:VCALENDAR
BEGIN:VEVENT
SUMMARY:Drone Lab + Open Projector: Bearded Twin [nycnoise]
DTSTART:20260321T000000Z
DTEND:20260321T010000Z
UID:b497c7e0-7863-47b0-b29c-dfb9e42c68a3
CREATED:20260425T130727Z
DESCRIPTION:"improvised ambient music &amp\; live visuals ... everyone's w
 elcome\, whether you want to play\, project\, or just relax &amp\; listen.
  Sign-up slots for visuals."
LOCATION:delight factory (303 Saratoga Ave\, Brooklyn\, NY 11233)
END:VEVENT
END:VCALENDAR
