BEGIN:VCALENDAR
BEGIN:VEVENT
SUMMARY:Borbo Borfday Show: Out The Wazoo\, Worbo Net\, Maks\, Sweetheart 
 Powder\, Prism\, Bunny [nycnoise]
DTSTART:20260329T000000Z
DTEND:20260329T010000Z
UID:f9333a46-870b-4d24-85a0-baa253f9658f
CREATED:20260425T130702Z
DESCRIPTION:7:30pm doors\; puppets\, noise\, airbrush tattoos // ACCESS: 
 🅰️ 📶&nbsp\;dm or email for address
LOCATION:<p><strong>diy basement&nbsp\;</strong>(all ages)\, bushwick\, bk
 lyn</p>
END:VEVENT
END:VCALENDAR
