BEGIN:VCALENDAR
BEGIN:VEVENT
SUMMARY:Susan's Salon: Susan Hefner & Kevin Shea\, Jill Burton & Viv Corri
 ngham\, The Plows (Kris Gruda\, James Paul Nadien\, Evan Palmer) [nycnoise
 ]
DTSTART:20260404T230000Z
DTEND:20260405T000000Z
UID:fca29a6e-2de1-4829-8cf1-d4b42bb4b8a2
CREATED:20260425T110920Z
DESCRIPTION:link to flyer
LOCATION:susan's salon
END:VEVENT
END:VCALENDAR
