BEGIN:VCALENDAR
BEGIN:VEVENT
SUMMARY:Reflections: Steve Hauschildt\, Kara-Lis Coverdale [nycnoise]
DTSTART:20260321T000000Z
DTEND:20260321T010000Z
UID:3602773d-7981-4ec9-bbdd-501443deca9a
CREATED:20260425T130727Z
DESCRIPTION:7pm doors\; artist names in bold cuz $49 is technically below 
 my $50-cutoff for written text lol :)
LOCATION:first unitarian church (119 pierrepont st.\, brooklyn)
END:VEVENT
END:VCALENDAR
