BEGIN:VCALENDAR
BEGIN:VEVENT
SUMMARY:Brady Only (Record Release)\, Adeline Hotel\, Mutual Benefit [nycn
 oise]
DTSTART:20260402T230000Z
DTEND:20260403T000000Z
UID:ba9f9bef-7672-4ee7-b771-009e0a3b3227
CREATED:20260425T110617Z
DESCRIPTION:7pm doors
LOCATION:union pool (484 union ave\, brooklyn)
END:VEVENT
END:VCALENDAR
