BEGIN:VCALENDAR
BEGIN:VEVENT
SUMMARY:Smoota Tête-a-tête\, SLOWMOTION plays JJ Cale's 'Naturally' [nyc
 noise]
DTSTART:20260322T230000Z
DTEND:20260323T000000Z
UID:8e1f35ab-e012-460b-b057-1862fda7e501
CREATED:20260425T130703Z
DESCRIPTION:7pm doors
LOCATION:union pool (484 union ave\, brooklyn)
END:VEVENT
END:VCALENDAR
