BEGIN:VCALENDAR
BEGIN:VEVENT
SUMMARY:OBSCUR: Swimmie\, Subcultures\, serpentskirt\, Zeigler [nycnoise]
DTSTART:20260324T020000Z
DTEND:20260324T030000Z
UID:ae4238a5-30dd-4748-a854-b5a3a092bcb7
CREATED:20260425T130917Z
DESCRIPTION:"a new experiential event focusing on dark electronics &amp\; 
 queer revelry"
LOCATION:bossa nova civic club (1271 myrtle ave\, brooklyn)
END:VEVENT
END:VCALENDAR
