BEGIN:VCALENDAR
BEGIN:VEVENT
SUMMARY:rocknite.ny: B.L.I.X.\, Plastic\, Seven [nycnoise]
DTSTART:20260324T020000Z
DTEND:20260324T030000Z
UID:6586aa68-ac8e-4c52-87b1-77ec46a71223
CREATED:20260425T130528Z
DESCRIPTION:9:30pm doors\; this 7: Aliya Ultan\, Georges Mefleh\, Wesley\,
  Adam Turay\, Kevin Eichenberger\, Matt Bent
LOCATION:night club 101 (101 avenue a\, manhattan)
END:VEVENT
END:VCALENDAR
