BEGIN:VCALENDAR
BEGIN:VEVENT
SUMMARY:Still House Plants\, Torture Methods\, Autobahn [nycnoise]
DTSTART:20260324T233000Z
DTEND:20260325T003000Z
UID:07140b0b-c58c-46f8-9e7e-6a3dcf230f80
CREATED:20260425T130835Z
DESCRIPTION:7pm doors
LOCATION:tv eye (1647 Weirfield St\, Ridgewood\, NY 11385)
END:VEVENT
END:VCALENDAR
