BEGIN:VCALENDAR
BEGIN:VEVENT
SUMMARY:Sound In Motion II: Joshue Ott & Matthew D. Gantt [nycnoise]
DTSTART:20260328T230000Z
DTEND:20260329T000000Z
UID:35aef6c4-48b3-4601-9c15-51e3dc8d3ee3
CREATED:20260425T130616Z
DESCRIPTION:6:30pm doors\, "an evening of live visual music"
LOCATION:david's place (249 W 29th St\, New York\, NY 10001)
END:VEVENT
END:VCALENDAR
