BEGIN:VCALENDAR
BEGIN:VEVENT
SUMMARY:Weinberg Residency: Jeremy Viner (w/ Brandon Seabrook\, Chris Tord
 ini\, Kate Gentile)\, Sam Weinberg (w/ Mark Helias\, Tim Angulo) [nycnoise
 ]
DTSTART:20260408T000000Z
DTEND:20260408T010000Z
UID:405f91c6-7380-43d2-bde2-e8884ac42e58
CREATED:20260425T110831Z
DESCRIPTION:7:30pm doors
LOCATION:sisters (900 fulton st.\, brooklyn)
END:VEVENT
END:VCALENDAR
