BEGIN:VCALENDAR
BEGIN:VEVENT
SUMMARY:free jazz at parkside: Carl Mitchell / Slava Balasanov / Benjamin 
 Scott / Jack Callahan / Julian Smith [nycnoise]
DTSTART:20260326T230000Z
DTEND:20260327T000000Z
UID:36aed9a5-2c68-49f3-a6a0-4ddd01d9260b
CREATED:20260425T130528Z
DESCRIPTION:
LOCATION:parkside lounge (317 e. houston st.\, manhattan)
END:VEVENT
END:VCALENDAR
